BEGIN:VCALENDAR
VERSION:2.0
PRODID:-//chikkutakku.com//RDFCal 1.0//EN
X-WR-CALDESC:GoogleカレンダーやiCalendar形式情報を共有シェ
 アしましょう。近所のイベントから全国のイベントま
 で今日のイベント検索やスケジュールを決めるならち
 っくたっく
X-WR-CALNAME:ちっくたっく
X-WR-TIMEZONE:UTC
BEGIN:VEVENT
SUMMARY:同声二部／混声三部合唱のための 佐藤義美の詩
 による３つの歌
DTSTART;VALUE=DATE:20260519
DTEND;VALUE=DATE:20260520
UID:209282796645
DESCRIPTION:2026-05-20同声二部／混声三部合唱のための 佐藤
 義美の詩による３つの歌佐藤義美/森田花央里株式会社
 音楽之友社
LOCATION:
END:VEVENT
END:VCALENDAR
