BEGIN:VCALENDAR
VERSION:2.0
PRODID:-//chikkutakku.com//RDFCal 1.0//EN
X-WR-CALDESC:GoogleカレンダーやiCalendar形式情報を共有シェ
 アしましょう。近所のイベントから全国のイベントま
 で今日のイベント検索やスケジュールを決めるならち
 っくたっく
X-WR-CALNAME:ちっくたっく
X-WR-TIMEZONE:UTC
BEGIN:VEVENT
SUMMARY:Sylvester Asimov (Terra Formars) at http://img4.wikia.nocookie.net
 /__cb20130722205811/terraformars/images/thumb/a/a0/Sylvester_Asimov.jpg/20
 0px-Sylvester_Asimov.jpg
DTSTART;VALUE=DATE-TIME:20260504T140000Z
DTEND;VALUE=DATE-TIME:20260505T140000Z
UID:209898456944
DESCRIPTION:Sylvester Asimov (Terra Formars) at http://img4.wikia.nocookie
 .net/__cb20130722205811/terraformars/images/thumb/a/a0/Sylvester_Asimov.jp
 g/200px-Sylvester_Asimov.jpg
LOCATION:http://img4.wikia.nocookie.net/__cb20130722205811/terraformars/im
 ages/thumb/a/a0/Sylvester_Asimov.jpg/200px-Sylvester_Asimov.jpg 
END:VEVENT
END:VCALENDAR
