BEGIN:VCALENDAR
VERSION:2.0
PRODID:-//chikkutakku.com//RDFCal 1.0//EN
X-WR-CALDESC:GoogleカレンダーやiCalendar形式情報を共有シェ
 アしましょう。近所のイベントから全国のイベントま
 で今日のイベント検索やスケジュールを決めるならち
 っくたっく
X-WR-CALNAME:ちっくたっく
X-WR-TIMEZONE:UTC
BEGIN:VEVENT
SUMMARY:【注】透明男と人間女 #1 そのうち夫婦になるふ
 たり / #2 デート大作戦 / #3 付き合いはじめて1週間 / #4 
 暴かせちゃイヤです / #5 初めてだったので / #6 わたし
 の(きみの)居場所 / #7 そばにいてほしいです / #8 わがま
 ま、ですよね / #9 ありのままでいること / #10 同棲する
 前に… / #11 透明人間の里 / #12 いよいよ
DTSTART;VALUE=DATE-TIME:20260425T230000Z
DTEND;VALUE=DATE-TIME:20260426T050000Z
UID:210143810936
DESCRIPTION: / #1 そのうち夫婦になるふたり / #2 デート大
 作戦 / #3 付き合いはじめて1週間 / #4 暴かせちゃイヤで
 す / #5 初めてだったので / #6 わたしの(きみの)居場所 / 
 #7 そばにいてほしいです / #8 わがまま、ですよね / #9 
 ありのままでいること / #10 同棲する前に… / #11 透明人
 間の里 / #12 いよいよ / https://abema.tv/channels/lovecomedy-anime/
 slots/AkN7ZjTer6yF1R リピート放送は 14:00～ https://abema.tv/chann
 els/lovecomedy-anime/slots/AkN7X185UNFApw 、アニメLIVEチャンネル 
 24:15～ https://abema.tv/channels/anime-live/slots/FCTA6uWBC91PaF (無料
 TS1週間)
LOCATION:ラブコメアニメ
END:VEVENT
END:VCALENDAR
