BEGIN:VCALENDAR
VERSION:2.0
PRODID:-//chikkutakku.com//RDFCal 1.0//EN
X-WR-CALDESC:GoogleカレンダーやiCalendar形式情報を共有シェ
 アしましょう。近所のイベントから全国のイベントま
 で今日のイベント検索やスケジュールを決めるならち
 っくたっく
X-WR-CALNAME:ちっくたっく
X-WR-TIMEZONE:UTC
BEGIN:VEVENT
SUMMARY:仮)イベント会議
DTSTART;VALUE=DATE-TIME:20260427T070000Z
DTEND;VALUE=DATE-TIME:20260427T130000Z
UID:210694417447
DESCRIPTION:▼申込内容\n予約日時: 2025/11/11 13:03:40\nお名前
 　: 田村里沙子(ばばのばプロジェクト)\n予約日　: 2026/0
 4/27(月)\n予約時間: 16:00～22:00
LOCATION:
END:VEVENT
END:VCALENDAR
