BEGIN:VCALENDAR
VERSION:2.0
PRODID:-//chikkutakku.com//RDFCal 1.0//EN
X-WR-CALDESC:GoogleカレンダーやiCalendar形式情報を共有シェ
 アしましょう。近所のイベントから全国のイベントま
 で今日のイベント検索やスケジュールを決めるならち
 っくたっく
X-WR-CALNAME:ちっくたっく
X-WR-TIMEZONE:UTC
BEGIN:VEVENT
SUMMARY:ติดตามตรวจรับงวดงานของ
  คก. ECI ของ ERDI
DTSTART;VALUE=DATE-TIME:20260423T040000Z
DTEND;VALUE=DATE-TIME:20260423T050000Z
UID:210706754583
DESCRIPTION:ประธาน\nสนย\n\n\nผอ.\nผช.สมา
 น\nผช.เอษณา\nคุณอัมพวรรณ\nฐิต
 ิรัตน์\nวรินธร
LOCATION:ห้องประชุมผู้บริหาร 2
END:VEVENT
END:VCALENDAR
