BEGIN:VCALENDAR
VERSION:2.0
PRODID:-//chikkutakku.com//RDFCal 1.0//EN
X-WR-CALDESC:GoogleカレンダーやiCalendar形式情報を共有シェ
 アしましょう。近所のイベントから全国のイベントま
 で今日のイベント検索やスケジュールを決めるならち
 っくたっく
X-WR-CALNAME:ちっくたっく
X-WR-TIMEZONE:UTC
BEGIN:VEVENT
SUMMARY:【Android 対応】美肌フライデー
DTSTART;VALUE=DATE-TIME:20260508T130000Z
DTEND;VALUE=DATE-TIME:20260508T140000Z
UID:210778688254
DESCRIPTION:【イベント主催者】\n　しんたや VRC美肌部代
 表（X: @shin_taya_VRC_）\n【イベント内容】\n　VRChatでスキ
 ンケア・コスメについて語るイベントです！美容初心
 者〜コスメ好きまで大歓迎！元美容部員＆コスメコン
 シェルジュの主催がサポートします。イベントの様子
 や感想などは Xで#VRC美肌部検索してみてくださいね！\n
 【イベントジャンル】\n　その他交流会\, 定期イベント
 \n【参加条件（モデル、人数制限など）】\n　アバター
 ランクVeryPoorはNG\n【参加方法】\n　開催時間にVRC美肌部
  GROUPインスタンスへJOIN\n【備考】\n　
LOCATION:
END:VEVENT
END:VCALENDAR
