BEGIN:VCALENDAR
VERSION:2.0
PRODID:-//chikkutakku.com//RDFCal 1.0//EN
X-WR-CALDESC:GoogleカレンダーやiCalendar形式情報を共有シェ
 アしましょう。近所のイベントから全国のイベントま
 で今日のイベント検索やスケジュールを決めるならち
 っくたっく
X-WR-CALNAME:ちっくたっく
X-WR-TIMEZONE:UTC
BEGIN:VEVENT
SUMMARY:【注】特別編 響け！ユーフォニアム～アンサン
 ブルコンテスト～ 
DTSTART;VALUE=DATE-TIME:20260425T125500Z
DTEND;VALUE=DATE-TIME:20260425T135500Z
UID:211189448366
DESCRIPTION: /  / ([[アニメSPECIAL https://abema.tv/timetable/channels/
 special-plus-7]]) https://abema.tv/channels/special-plus-7/slots/EvABQrYva
 PX7b5 リピート放送は 4/26(日) 15:35～ https://abema.tv/channels/s
 pecial-plus-7/slots/AkN7XvdyJ35GaB (無料TS1週間) https://prtimes.jp/ma
 in/html/rd/p/000003116.000064643.html
LOCATION:ABEMA特設その他
END:VEVENT
END:VCALENDAR
