BEGIN:VCALENDAR
VERSION:2.0
PRODID:-//chikkutakku.com//RDFCal 1.0//EN
X-WR-CALDESC:GoogleカレンダーやiCalendar形式情報を共有シェ
 アしましょう。近所のイベントから全国のイベントま
 で今日のイベント検索やスケジュールを決めるならち
 っくたっく
X-WR-CALNAME:ちっくたっく
X-WR-TIMEZONE:UTC
BEGIN:VEVENT
SUMMARY:お茶会バトルお嬢様RPイベント 星園学院お嬢様部
DTSTART;VALUE=DATE-TIME:20260423T133000Z
DTEND;VALUE=DATE-TIME:20260423T143000Z
UID:211248591678
DESCRIPTION:【イベント主催者】\n　凪月カタリちゃん［JP
 ］\n【イベント内容】\n　星園学院ホスト部の派生イベ
 ント。\n星園学院お嬢様部‼\nこの部活動はお嬢様によ
 るお嬢様の為のお嬢様力向上イベントなのである‼(意
 味不明)\n名のある名家のお嬢様達が一般のお嬢様を招
 き入れ、特別なお茶会が開催される。\nその名も『お嬢
 様部』‼\n当イベントは、キャストのお嬢様と15分の交
 流会と15分のグループ対抗のゲームを行います。\n個性
 豊かなお嬢様達と優雅且つユーモラスな時間をぜひお
 過ごしください！\n【イベントジャンル】\n　店舗系イ
 ベント\, ロールプレイ\, 定期イベント\n【参加条件（モ
 デル、人数制限など）】\n　ゲストの皆様のアバターコ
 ーデは\nお嬢様もしくは女学生改変でお願いします。\n
 ゲストの皆様は最大で12名の方を受け入れを予定してい
 ます。\nまた参加予定のアバターの容量は、可能な限り
 50MB以内に収めていただくようお願いいたします\n【参
 加方法】\n　当イベントはインバイトオンリーで開催さ
 れます。\n22:25にリクイン受付開始します！\n詳細は主
 催のXアカウント『@KaTaRin1Natuki』でご確認ください！\n
 【備考】\n　
LOCATION:
END:VEVENT
END:VCALENDAR
