BEGIN:VCALENDAR
VERSION:2.0
PRODID:-//chikkutakku.com//RDFCal 1.0//EN
X-WR-CALDESC:GoogleカレンダーやiCalendar形式情報を共有シェ
 アしましょう。近所のイベントから全国のイベントま
 で今日のイベント検索やスケジュールを決めるならち
 っくたっく
X-WR-CALNAME:ちっくたっく
X-WR-TIMEZONE:UTC
BEGIN:VEVENT
SUMMARY:江古田 そるとぴーなつ / 坂野尚子(Fl)トリオ
DTSTART;VALUE=DATE-TIME:20260514T103000Z
DTEND;VALUE=DATE-TIME:20260514T125000Z
UID:211408336561
DESCRIPTION:03-3993-3400\n\nライブチャージ 1500YEN テーブルチ
 ャージ 500YEN\n\n坂野尚子\,flute 塩川俊彦\,guitar 楠直孝\,pi
 ano\nhttp://salt-peanuts.music.coocan.jp/
LOCATION:JazzBar そるとぴーなつ\, 日本\, 〒176-0006 東京都練
 馬区栄町４−３ グレーシー マンション B1F
END:VEVENT
END:VCALENDAR
