BEGIN:VCALENDAR
VERSION:2.0
PRODID:-//chikkutakku.com//RDFCal 1.0//EN
X-WR-CALDESC:GoogleカレンダーやiCalendar形式情報を共有シェ
 アしましょう。近所のイベントから全国のイベントま
 で今日のイベント検索やスケジュールを決めるならち
 っくたっく
X-WR-CALNAME:ちっくたっく
X-WR-TIMEZONE:UTC
BEGIN:VEVENT
SUMMARY:โครงการ MU ABOUT FUN (ฟัน) ม.ปลาย 
 ⏰ วันที่จัดโครงการ : 6 - 7 พฤษภ
 าคม 2569  ข่าวประชาสัมพันธ์จา
 ก : โรงพยาบาลทันตกรรม คณะทั
 นตแพทยศาสตร์ มหาวิทยาลัยม
 หิดล
DTSTART;VALUE=DATE-TIME:20260506T013000Z
DTEND;VALUE=DATE-TIME:20260506T093000Z
UID:211708992448
DESCRIPTION:โครงการ MU ABOUT FUN (ฟัน) ม.ปลา
 ย⏰ วันที่จัดโครงการ : 6 - 7 พฤษ
 ภาคม 2569ข่าวประชาสัมพันธ์จา
 ก : โรงพยาบาลทันตกรรม คณะทั
 นตแพทยศาสตร์ มหาวิทยาลัยม
 หิดล🗝️ เปิดรับสมัครตั้งแต
 ่บัดนี้ถึง วันที่ 23 เมษายน 25
 69(รับจำนวนจำกัดเพียง 50 คน เท
 ่านั้น)ค่าลงทะเบียนคนละ 2\,000
  บาท☎️ ติดต่อสอบถาม :โรงพยา
 บาลทันตกรรม (ในวันและเวลาร
 าชการ)โทร. 064 562 2980\, 02 200 7792Link ข่าวป
 ระชาสัมพันธ์ : https://dt.mahidol.ac.th/news/news-
 20260416-1/
LOCATION:ณ คณะทันตแพทยศาสตร์ มหา
 วิทยาลัยมหิดล
END:VEVENT
END:VCALENDAR
