BEGIN:VCALENDAR
VERSION:2.0
PRODID:-//chikkutakku.com//RDFCal 1.0//EN
X-WR-CALDESC:GoogleカレンダーやiCalendar形式情報を共有シェ
 アしましょう。近所のイベントから全国のイベントま
 で今日のイベント検索やスケジュールを決めるならち
 っくたっく
X-WR-CALNAME:ちっくたっく
X-WR-TIMEZONE:UTC
BEGIN:VEVENT
SUMMARY:Comm Hours/ Wildfire Presentation 
DTSTART;VALUE=DATE-TIME:20260421T210000Z
DTEND;VALUE=DATE-TIME:20260421T223000Z
UID:211736980855
DESCRIPTION: https://www.morrisonco.us/calendar.aspx?EID=2080
LOCATION:<p>Morrison Town Hall&nbsp\;</p> - 110 Stone St.  Morrison CO 804
 65
END:VEVENT
END:VCALENDAR
