BEGIN:VCALENDAR
VERSION:2.0
PRODID:-//chikkutakku.com//RDFCal 1.0//EN
X-WR-CALDESC:GoogleカレンダーやiCalendar形式情報を共有シェ
 アしましょう。近所のイベントから全国のイベントま
 で今日のイベント検索やスケジュールを決めるならち
 っくたっく
X-WR-CALNAME:ちっくたっく
X-WR-TIMEZONE:UTC
BEGIN:VEVENT
SUMMARY:【グランドオープン！】コーギーカフェ
DTSTART;VALUE=DATE-TIME:20260422T130000Z
DTEND;VALUE=DATE-TIME:20260422T140000Z
UID:212226560461
DESCRIPTION:【イベント主催者】\n　ゅゅ＆たう\n【イベン
 ト内容】\n　《新規イベント》\nこの度、コーギーが接
 客するカフェがオープンすることになりました！\nキャ
 ストはみんなコーギー！しかもお喋りします！！\nそん
 な不思議なカフェへぜひお越しいただければと思いま
 す。\n色んなコーギーちゃんがいるのでいっぱい遊んだ
 り癒されてくださいね。\n※初心犬が多いので拙いとこ
 ろもありますが、大目に見てあげていただけると助か
 ります。\n\n【開催タイミング】\n不定期開催　22時スタ
 ート～アフター込みで23時までの開店となっております
 。\n【イベントジャンル】\n　店舗系イベント\, 初心者
 向けイベント\, 定期イベント\n【参加条件（モデル、人
 数制限など）】\n　・過度に重いアバターやパーティク
 ルのご使用はお控えください（推奨は50MB未満です）\n
 ・版権アバターの使用は禁止です\n・コーギーアバター
 での来店はご遠慮ください（キャストと間違われる可
 能性があるため）\n・NSFWに該当する行為は禁止です\n・
 イベント中のキャストへのフレンド申請はご遠慮くだ
 さい（ただしアフターは双方同意のもとならOK）\n・そ
 の他キャストやお客様への迷惑行為はおやめください\n
 【参加方法】\n　グループインスタンスにて開催（グル
 オン）\n以下URLよりご参加ください！\n\nhttps://vrchat.com/h
 ome/group/grp_ff4076e7-5918-4b17-8bf4-752550951d2d\n【備考】\n　公
 式Twitter（現X）も運営しています！\n今後の活動を載せ
 ていくのでぜひご確認ください。\n\nhttps://x.com/VRCcorgilov
 e
LOCATION:
END:VEVENT
END:VCALENDAR
