BEGIN:VCALENDAR
VERSION:2.0
PRODID:-//chikkutakku.com//RDFCal 1.0//EN
X-WR-CALDESC:GoogleカレンダーやiCalendar形式情報を共有シェ
 アしましょう。近所のイベントから全国のイベントま
 で今日のイベント検索やスケジュールを決めるならち
 っくたっく
X-WR-CALNAME:ちっくたっく
X-WR-TIMEZONE:UTC
BEGIN:VEVENT
SUMMARY:【注】プラオレ！ #1 face off / #2 best friends / #3 all fo
 r one / #4 grinder / #5 shoot out / #6 debut / #7 cheer up! / #8 accident 
 / #9 awakening / #10 reunion / #11 barn burner / #12 PRIDE OF ORANGE
DTSTART;VALUE=DATE-TIME:20260420T190000Z
DTEND;VALUE=DATE-TIME:20260421T010000Z
UID:212497753204
DESCRIPTION: / #1 face off / #2 best friends / #3 all for one / #4 grinder
  / #5 shoot out / #6 debut / #7 cheer up! / #8 accident / #9 awakening / #
 10 reunion / #11 barn burner / #12 PRIDE OF ORANGE / https://abema.tv/chan
 nels/anime-live2/slots/8foGwG4AgVicHm リピート放送は 4/21(火) 22:0
 0～ https://abema.tv/channels/anime-live2/slots/FCTA6HKjpFWUT9 (無料TS1
 週間)
LOCATION:アニメLIVE2
END:VEVENT
END:VCALENDAR
