BEGIN:VCALENDAR
VERSION:2.0
PRODID:-//chikkutakku.com//RDFCal 1.0//EN
X-WR-CALDESC:GoogleカレンダーやiCalendar形式情報を共有シェ
 アしましょう。近所のイベントから全国のイベントま
 で今日のイベント検索やスケジュールを決めるならち
 っくたっく
X-WR-CALNAME:ちっくたっく
X-WR-TIMEZONE:UTC
BEGIN:VEVENT
SUMMARY:最強の王様、二度目の人生は何をする？ Season2 #4 
 「王様、帰郷する。」
DTSTART;VALUE=DATE-TIME:20260422T143000Z
DTEND;VALUE=DATE-TIME:20260422T150000Z
UID:212527751146
DESCRIPTION:4 / 王様、帰郷する。 / 
LOCATION:AT-X
END:VEVENT
END:VCALENDAR
