BEGIN:VCALENDAR
VERSION:2.0
PRODID:-//chikkutakku.com//RDFCal 1.0//EN
X-WR-CALDESC:GoogleカレンダーやiCalendar形式情報を共有シェ
 アしましょう。近所のイベントから全国のイベントま
 で今日のイベント検索やスケジュールを決めるならち
 っくたっく
X-WR-CALNAME:ちっくたっく
X-WR-TIMEZONE:UTC
BEGIN:VEVENT
SUMMARY:国立国語研究所：第296回 NINJALサロン「言語モデ
 ルによる子供の過剰な一般化の再現」（2026年4月21日（
 火）15:10～16:10、多目的室 +Zoom）※要申し込み
DTSTART;VALUE=DATE:20260420
DTEND;VALUE=DATE:20260421
UID:212766269276
DESCRIPTION:https://bungaku-report.com/blog/2026/04/296-ninjal202642115101
 610-zoom.html
LOCATION:
END:VEVENT
END:VCALENDAR
