BEGIN:VCALENDAR
VERSION:2.0
PRODID:-//chikkutakku.com//RDFCal 1.0//EN
X-WR-CALDESC:GoogleカレンダーやiCalendar形式情報を共有シェ
 アしましょう。近所のイベントから全国のイベントま
 で今日のイベント検索やスケジュールを決めるならち
 っくたっく
X-WR-CALNAME:ちっくたっく
X-WR-TIMEZONE:UTC
BEGIN:VEVENT
SUMMARY:【Android 対応】VRC九州集会
DTSTART;VALUE=DATE-TIME:20260421T120000Z
DTEND;VALUE=DATE-TIME:20260421T130000Z
UID:212849231548
DESCRIPTION:【イベント主催者】\n　大黒イコナ\n【イベン
 ト内容】\n　九州地方出身・在住または九州に興味ある
 方の交流イベントです！\n【イベントジャンル】\n　そ
 の他交流会\, 定期イベント\n【参加条件（モデル、人数
 制限など）】\n　\n【参加方法】\n　開催時間に「VRC九
 州集会 Group」のInstanceをGroup+で立てておくので、VRCの「
 VRC九州集会 Group」に加入の上、VRC九州集会イベントイ
 ンスタンスに直接JOINしてください。\nVRC九州集会Groupは
 以下のURLから入ることができます。\nhttps://vrc.group/VRQSHU
 .6776\n【備考】\n　https://x.com/KyushuShukai/status/1693556047456194
 720
LOCATION:
END:VEVENT
END:VCALENDAR
