BEGIN:VCALENDAR
VERSION:2.0
PRODID:-//chikkutakku.com//RDFCal 1.0//EN
X-WR-CALDESC:GoogleカレンダーやiCalendar形式情報を共有シェ
 アしましょう。近所のイベントから全国のイベントま
 で今日のイベント検索やスケジュールを決めるならち
 っくたっく
X-WR-CALNAME:ちっくたっく
X-WR-TIMEZONE:UTC
BEGIN:VEVENT
SUMMARY:(19時)志う歌く祭
DTSTART;VALUE=DATE:20260423
DTEND;VALUE=DATE:20260424
UID:213163010324
DESCRIPTION:出演：三遊亭志う歌 \n開​場18時半・開演19時
 　 \n料金：予約2000円　当日2300円 \nご予約はらくごカ​
 フェまで \nメール:rakugoc​afe@​hotmail.co.jp　\n電話:03-6268
 -9818​（平日​12時～18時）
LOCATION:
END:VEVENT
END:VCALENDAR
