BEGIN:VCALENDAR
VERSION:2.0
PRODID:-//chikkutakku.com//RDFCal 1.0//EN
X-WR-CALDESC:GoogleカレンダーやiCalendar形式情報を共有シェ
 アしましょう。近所のイベントから全国のイベントま
 で今日のイベント検索やスケジュールを決めるならち
 っくたっく
X-WR-CALNAME:ちっくたっく
X-WR-TIMEZONE:UTC
BEGIN:VEVENT
SUMMARY:現代詩手帖 2026年 5月号 [雑誌]
DTSTART;VALUE=DATE:20260427
DTEND;VALUE=DATE:20260428
UID:213212611725
DESCRIPTION:2026-04-28現代詩手帖 2026年 5月号 [雑誌]思潮社
LOCATION:
END:VEVENT
END:VCALENDAR
