BEGIN:VCALENDAR
VERSION:2.0
PRODID:-//chikkutakku.com//RDFCal 1.0//EN
X-WR-CALDESC:GoogleカレンダーやiCalendar形式情報を共有シェ
 アしましょう。近所のイベントから全国のイベントま
 で今日のイベント検索やスケジュールを決めるならち
 っくたっく
X-WR-CALNAME:ちっくたっく
X-WR-TIMEZONE:UTC
BEGIN:VEVENT
SUMMARY:Lena S +2 ( Hailey\, Titan\, haylo) trail w/ bri
DTSTART;VALUE=DATE-TIME:20260424T173000Z
DTEND;VALUE=DATE-TIME:20260424T190000Z
UID:213270510112
DESCRIPTION:PAID IN FULL
LOCATION:
END:VEVENT
END:VCALENDAR
