BEGIN:VCALENDAR
VERSION:2.0
PRODID:-//chikkutakku.com//RDFCal 1.0//EN
X-WR-CALDESC:GoogleカレンダーやiCalendar形式情報を共有シェ
 アしましょう。近所のイベントから全国のイベントま
 で今日のイベント検索やスケジュールを決めるならち
 っくたっく
X-WR-CALNAME:ちっくたっく
X-WR-TIMEZONE:UTC
BEGIN:VEVENT
SUMMARY:役目を果たした日陰の勇者は、辺境で自由に生き
 ていきます 3
DTSTART;VALUE=DATE:20260521
DTEND;VALUE=DATE:20260522
UID:213394873093
DESCRIPTION:2026-05-22役目を果たした日陰の勇者は、辺境で
 自由に生きていきます 3船野真帆/丘野優スターツ出版
LOCATION:
END:VEVENT
END:VCALENDAR
