BEGIN:VCALENDAR
VERSION:2.0
PRODID:-//chikkutakku.com//RDFCal 1.0//EN
X-WR-CALDESC:GoogleカレンダーやiCalendar形式情報を共有シェ
 アしましょう。近所のイベントから全国のイベントま
 で今日のイベント検索やスケジュールを決めるならち
 っくたっく
X-WR-CALNAME:ちっくたっく
X-WR-TIMEZONE:UTC
BEGIN:VEVENT
SUMMARY:【楽天ブックス限定先着特典】THE IDOLM@STER MILLION B
 ATTLE OF THE＠TER 06 Especially Angel(スマホサイズブロマイド89
 mm×62mm)
DTSTART;VALUE=DATE:20260428
DTEND;VALUE=DATE:20260429
UID:213430235242
DESCRIPTION:2026-04-29【楽天ブックス限定先着特典】THE IDOLM@
 STER MILLION BATTLE OF THE＠TER 06 Especially Angel(スマホサイズブ
 ロマイド89mm×62mm)(ゲーム・ミュージック)(株)バンダイ
 ナムコミュージックライブ
LOCATION:
END:VEVENT
END:VCALENDAR
