BEGIN:VCALENDAR
VERSION:2.0
PRODID:-//chikkutakku.com//RDFCal 1.0//EN
X-WR-CALDESC:GoogleカレンダーやiCalendar形式情報を共有シェ
 アしましょう。近所のイベントから全国のイベントま
 で今日のイベント検索やスケジュールを決めるならち
 っくたっく
X-WR-CALNAME:ちっくたっく
X-WR-TIMEZONE:UTC
BEGIN:VEVENT
SUMMARY:【Android 対応】まめひなたオンリー集会『まめひ
 なた保育園』
DTSTART;VALUE=DATE-TIME:20260421T130000Z
DTEND;VALUE=DATE-TIME:20260421T140000Z
UID:213545872207
DESCRIPTION:【イベント主催者】\n　トイル_toiru\n【イベン
 ト内容】\n　もち山金魚アバター「まめひなた」のオン
 リー交流会\n今回のテーマは保育園！園児服やベビー服
 を着てお楽しみください。\n【イベントジャンル】\n　
 改変アバター交流会\, その他交流会\, 初心者向けイベ
 ント\, 定期イベント\n【参加条件（モデル、人数制限な
 ど）】\n　素体が「まめひなた」であること。サンプル
 まめひなたOK！\n【参加方法】\n　まめひなたオンリー
 集会Groupに事前にご参加頂き、時間になりましたらJOIN
 してお楽しみください。\n《まめひなたオンリー集会gro
 up》\nhttps://vrchat.com/home/group/grp_050d649c-5e90-44e7-8366-0aa6ab2e9
 705\n【備考】\n　group＋開催。園児服やベビー服などを
 お持ちでない方もお気軽にご参加頂けます。サンプル
 まめひなた＆quest単機も大歓迎！
LOCATION:
END:VEVENT
END:VCALENDAR
