BEGIN:VCALENDAR
VERSION:2.0
PRODID:-//chikkutakku.com//RDFCal 1.0//EN
X-WR-CALDESC:GoogleカレンダーやiCalendar形式情報を共有シェ
 アしましょう。近所のイベントから全国のイベントま
 で今日のイベント検索やスケジュールを決めるならち
 っくたっく
X-WR-CALNAME:ちっくたっく
X-WR-TIMEZONE:UTC
BEGIN:VEVENT
SUMMARY:ALTTPR League S8 Invitational: The Spoilers_Damp Loaf Dampe
DTSTART;VALUE=DATE-TIME:20260425T200000Z
DTEND;VALUE=DATE-TIME:20260425T223000Z
UID:213745062037
DESCRIPTION:A Link to the Past Randomizer Invitational League Season 8\nsh
 adyforce/wgarrison. Doctor_Marty_0/norskmatty\nhttp://twitch.tv/SpeedGamin
 g\n\n\n[updated 2026-04-25T03:19:49+00:00]
LOCATION:
END:VEVENT
END:VCALENDAR
