BEGIN:VCALENDAR
VERSION:2.0
PRODID:-//chikkutakku.com//RDFCal 1.0//EN
X-WR-CALDESC:GoogleカレンダーやiCalendar形式情報を共有シェ
 アしましょう。近所のイベントから全国のイベントま
 で今日のイベント検索やスケジュールを決めるならち
 っくたっく
X-WR-CALNAME:ちっくたっく
X-WR-TIMEZONE:UTC
BEGIN:VEVENT
SUMMARY:A2SO / UMS Choral Union 
DTSTART;VALUE=DATE-TIME:20260425T233000Z
DTEND;VALUE=DATE-TIME:20260426T010000Z
UID:214161860146
DESCRIPTION:A2SO / UMS Choral Union 
LOCATION:Michigan Theater\, 603 E Liberty St\, Ann Arbor\, MI 48104\, USA
END:VEVENT
END:VCALENDAR
