BEGIN:VCALENDAR
VERSION:2.0
PRODID:-//chikkutakku.com//RDFCal 1.0//EN
X-WR-CALDESC:GoogleカレンダーやiCalendar形式情報を共有シェ
 アしましょう。近所のイベントから全国のイベントま
 で今日のイベント検索やスケジュールを決めるならち
 っくたっく
X-WR-CALNAME:ちっくたっく
X-WR-TIMEZONE:UTC
BEGIN:VEVENT
SUMMARY:re:publica 2026
DTSTART;VALUE=DATE:20260517
DTEND;VALUE=DATE:20260520
UID:214182148666
DESCRIPTION:https://www.re-publica.com re:publica Berlín  es el festival
  de sociedad digital más grande de Europa. Los participantes de re:public
 a representan una muestra representativa de la sociedad (digital)\, que in
 cluye profesionales de la economía\, la política\, los negocios\, la cul
 tura hacker\, las ONG\, los medios de comunicación y el marketing\, así 
 como blogueros\, activistas\, artistas y expertos en redes sociales.
LOCATION:STATION Berlin\, Luckenwalder Str. 4-6\, 10963 Berlin\, Alemania
END:VEVENT
END:VCALENDAR
