BEGIN:VCALENDAR
VERSION:2.0
PRODID:-//chikkutakku.com//RDFCal 1.0//EN
X-WR-CALDESC:GoogleカレンダーやiCalendar形式情報を共有シェ
 アしましょう。近所のイベントから全国のイベントま
 で今日のイベント検索やスケジュールを決めるならち
 っくたっく
X-WR-CALNAME:ちっくたっく
X-WR-TIMEZONE:UTC
BEGIN:VEVENT
SUMMARY:子どもと楽しむ落語会＠海南ノビノス　
DTSTART;VALUE=DATE-TIME:20260426T020000Z
DTEND;VALUE=DATE-TIME:20260426T033000Z
UID:214298113611
DESCRIPTION:http://cclive.ikora.tv/e1598606.html
LOCATION:海南ノビノス　　 海南市日方１５２５−６
END:VEVENT
END:VCALENDAR
