BEGIN:VCALENDAR
VERSION:2.0
PRODID:-//chikkutakku.com//RDFCal 1.0//EN
X-WR-CALDESC:GoogleカレンダーやiCalendar形式情報を共有シェ
 アしましょう。近所のイベントから全国のイベントま
 で今日のイベント検索やスケジュールを決めるならち
 っくたっく
X-WR-CALNAME:ちっくたっく
X-WR-TIMEZONE:UTC
BEGIN:VEVENT
SUMMARY:Suffolk Modern Theatre: Living in Pryde (short) (+ film subjects) 
 (RSVP required)
DTSTART;VALUE=DATE-TIME:20260504T230000Z
DTEND;VALUE=DATE-TIME:20260505T003000Z
UID:214604256396
DESCRIPTION:Ford Hall Forum at Suffolk University\, Our Bodies Ourselves\,
  GBH News\, GBH Forum Network\, and LBGTQ Senior Housing\, Inc.\, proudly 
 present:﻿A special screening of Living in PrydeA GBH News documentary b
 y Jack Doyle\, Emily Judem\, and Robert Tokanel Following the screening\,
  Pascale Florestal\, associate artistic director\, Front Porch Arts Collec
 tive will be in conversation with residents of The Pryde.Monday\, May 4\, 
 2026 | 7:00 p.m.Modern Theatre | 525 Washington Street\, Boston\, MA 02111
 Register here to attend in personRegister here to attend via Zoom﻿PDF Fl
 yerThis event is free and open to the public.Watch the trailer below. htt
 ps://www.youtube.com/watch?v=qFHMwKbfy8E Living in Pryde is a powerful s
 hort documentary following residents of The Pryde—New England’s first 
 LGBTQ+ welcoming\, affordable senior housing community. As LGBTQ+ rights f
 ace renewed challenges\, the film highlights a generation that came of age
  without basic legal protections. Residents draw on a lifetime of resilien
 ce\, reflecting on surviving the AIDS crisis\, fighting for same-sex marri
 age\, and coming out as transgender. Located in a former public school in 
 Boston’s Hyde Park\, The Pryde is both a refuge and a target—a place w
 here community becomes a powerful force in the ongoing fight for civil rig
 hts and equality.
LOCATION:
END:VEVENT
END:VCALENDAR
