BEGIN:VCALENDAR
VERSION:2.0
PRODID:-//chikkutakku.com//RDFCal 1.0//EN
X-WR-CALDESC:GoogleカレンダーやiCalendar形式情報を共有シェ
 アしましょう。近所のイベントから全国のイベントま
 で今日のイベント検索やスケジュールを決めるならち
 っくたっく
X-WR-CALNAME:ちっくたっく
X-WR-TIMEZONE:UTC
BEGIN:VEVENT
SUMMARY:【Nuit Café 】ゆったりとした穏やかなひと時
DTSTART;VALUE=DATE-TIME:20260425T130000Z
DTEND;VALUE=DATE-TIME:20260425T140000Z
UID:214687468381
DESCRIPTION:【イベント主催者】\n　れとぶき\n【イベント
 内容】\n　月に一度、一時間だけ開く夜のカフェ\nゆっ
 たりとした穏やかなひと時をあなたに…☕\nお菓子やお
 茶を片手にお話したり、自分の時間を楽しんだりしま
 しょう！\n【イベントジャンル】\n　店舗系イベント\n
 【参加条件（モデル、人数制限など）】\n　・人数上限
 16人\n・NSFW行為や不適切なアバター、版権アバターの使
 用禁止\n・ダウンロード容量50MB以下のアバターでお越
 しください。\n・無許可での動画撮影及び録音はしない
 でください\n【参加方法】\n　ソーシャル及びグループ
 インスタンスから参加できます！グループオンリーと
 なっ\nておりますので、事前に申請をお願いします。\n
 【備考】\n　　https://x.com/nuit_cafe/status/1974470728436396273?s=4
 6
LOCATION:
END:VEVENT
END:VCALENDAR
