BEGIN:VCALENDAR
VERSION:2.0
PRODID:-//chikkutakku.com//RDFCal 1.0//EN
X-WR-CALDESC:GoogleカレンダーやiCalendar形式情報を共有シェ
 アしましょう。近所のイベントから全国のイベントま
 で今日のイベント検索やスケジュールを決めるならち
 っくたっく
X-WR-CALNAME:ちっくたっく
X-WR-TIMEZONE:UTC
BEGIN:VEVENT
SUMMARY:【細井徳太郎3days】細井徳太郎+林栄一
DTSTART;VALUE=DATE:20260513
DTEND;VALUE=DATE:20260514
UID:214820213435
DESCRIPTION:open 19:30 / start 20:00\n細井徳太郎+林栄一\n()\n投
 げ銭制(別途チャージ500円+ドリンクオーダー)\n()\n予約
 方法\n・予約受付メールアドレス:barisshee@keh.biglobe.ne.jp\n
 タイトルを「5/14予約」とし、\n上記アドレスに氏名(フ
 ルネーム)と人数(最大2名)と電話番号をお知らせくださ
 い。整理番号を返信いたします。\n予約は5月13日24時で
 締め切ります。\nそれ以前に定員に達した場合はその時
 点で予約終了となります。\n()\nメールにてご予約、整
 理番号順の入場となります。\n携帯からメールされる方
 は、PCからのメールを受け取れるようにしておいてくだ
 さい。\n()\nなお事前連絡無しの無断のキャンセルの場
 合、\n今後の予約ができなくなる可能性もありますので
 、\n充分ご承知おきください。\n\n【関連/参考ページ】\
 nhttp://www.bloc.jp/barisshee/ （千駄木Bar Isshee）
LOCATION:千駄木Bar Isshee【関東】
END:VEVENT
END:VCALENDAR
