BEGIN:VCALENDAR
VERSION:2.0
PRODID:-//chikkutakku.com//RDFCal 1.0//EN
X-WR-CALDESC:GoogleカレンダーやiCalendar形式情報を共有シェ
 アしましょう。近所のイベントから全国のイベントま
 で今日のイベント検索やスケジュールを決めるならち
 っくたっく
X-WR-CALNAME:ちっくたっく
X-WR-TIMEZONE:UTC
BEGIN:VEVENT
SUMMARY:じっちゃんの｢昼の水妖怪｣12時開場
DTSTART;VALUE=DATE-TIME:20260513T031500Z
DTEND;VALUE=DATE-TIME:20260513T031500Z
UID:214914508068
DESCRIPTION:
LOCATION:
END:VEVENT
END:VCALENDAR
