BEGIN:VCALENDAR
VERSION:2.0
PRODID:-//chikkutakku.com//RDFCal 1.0//EN
X-WR-CALDESC:GoogleカレンダーやiCalendar形式情報を共有シェ
 アしましょう。近所のイベントから全国のイベントま
 で今日のイベント検索やスケジュールを決めるならち
 っくたっく
X-WR-CALNAME:ちっくたっく
X-WR-TIMEZONE:UTC
BEGIN:VEVENT
SUMMARY:🎋竹を学ぼう・竹で遊ぼう🎋（工作講座）
DTSTART;VALUE=DATE-TIME:20260426T043000Z
DTEND;VALUE=DATE-TIME:20260426T070000Z
UID:215726729649
DESCRIPTION:【竹を学ぼう・竹で遊ぼう】シリーズ！（毎
 月開催中）伐採した竹を再利用してオリジナルの作品
 を作っていきます。※3月～5月は「台所で使える竹細工
 」をテーマに講座を行います。日時：2026年4月26日（日
 ）13：30～16：00今回は「竹でお箸＆器づくり」を開催し
 ます。完成後は日常生活で活用できます。親子でもお1
 人様でもご参加OK！お気軽にご参加ください。対象：小
 学生以上（小学生は保護者同伴必須）参加料：1つ 2\,000
 円定員：先着20個（※同時申込は5人まで）申込み：事
 前にネットから申込が必要（受付開始：4/3(金)～）申込
 先：https://forms.gle/3P2QSH5q54Jx2ZYu9
LOCATION:北九州市立山田緑地\, 日本、〒803-0865 福岡県北
 九州市小倉北区山田町
END:VEVENT
END:VCALENDAR
