BEGIN:VCALENDAR
VERSION:2.0
PRODID:-//chikkutakku.com//RDFCal 1.0//EN
X-WR-CALDESC:GoogleカレンダーやiCalendar形式情報を共有シェ
 アしましょう。近所のイベントから全国のイベントま
 で今日のイベント検索やスケジュールを決めるならち
 っくたっく
X-WR-CALNAME:ちっくたっく
X-WR-TIMEZONE:UTC
BEGIN:VEVENT
SUMMARY:13:45夢限大みゅーたいぷ
DTSTART;VALUE=DATE:20260424
DTEND;VALUE=DATE:20260425
UID:216218218805
DESCRIPTION:夢限大みゅーたいぷ 47都道府県制覇の旅「ス
 ーパーポジション 〜夢限大編〜」@兵庫　阪急西宮ガー
 デンズ 本館４階スカイガーデン・木の葉のステージ\n
 ミニライブ&特典会\n開催日時： 2026/04/25 (土) 13:45\n会場
 ： HMV阪急西宮ガーデンズ\n出演： 夢限大みゅーたいぷ
LOCATION:
END:VEVENT
END:VCALENDAR
