BEGIN:VCALENDAR
VERSION:2.0
PRODID:-//chikkutakku.com//RDFCal 1.0//EN
X-WR-CALDESC:GoogleカレンダーやiCalendar形式情報を共有シェ
 アしましょう。近所のイベントから全国のイベントま
 で今日のイベント検索やスケジュールを決めるならち
 っくたっく
X-WR-CALNAME:ちっくたっく
X-WR-TIMEZONE:UTC
BEGIN:VEVENT
SUMMARY:【Android 対応】ガールズバーマスカティア
DTSTART;VALUE=DATE-TIME:20260422T133000Z
DTEND;VALUE=DATE-TIME:20260422T150000Z
UID:216421006811
DESCRIPTION:【イベント主催者】\n　tetero115\n【イベント内
 容】\n　マスカティアへようこそ！\nマスカットみたい
 に フレッシュで甘酸っぱくて元気いっぱい！\nかわい
 いキャストと一緒に、シュワっと弾けるような楽しい
 時間を過ごせるコンセプトバーです！\n\n初心者でも楽
 しめる飲みイベントです！\n元々夜のお店で働いていた
 ママがオーナーのイベントなので実際に夜のお店入っ
 たこと無い方も安心！\n雰囲気としてはフレッシュで可
 愛いガールズバーですが男子高校生みたいなノリで常
 連、新規で楽しめるイベントです！\n遊びにきてくださ
 い！！\n\n【イベントジャンル】\n　VR飲み会\, 店舗系イ
 ベント\, 初心者向けイベント\n【参加条件（モデル、人
 数制限など）】\n　\n【参加方法】\n　グループ検索:【M
 USCAT.0964】に参加して開いているインスタンスにJOIN\n\n
 【備考】\n　\n【注意事項】\n\n1.みんなで楽しく！ネガ
 ティブな発言や空気を壊す行為はNG。笑顔で「カンパ〜
 イ！」しましょう✨\n\n2.キャストへの過度なアプロー
 チ禁止！スキンシップやしつこい質問はダメ。優しく
 フルーティーに接してね🍹\n※参加者、キャストさん
 の個人情報を聞き出す行為なども禁じます。\n\n3.酔っ
 払いすぎ注意！VR酔い・お酒酔い、どちらもほどほどに
 。無理せず休憩しながら楽しもう💤\n\n4.写真や配信は
 スタッフに確認！思い出のスクショ大歓迎ですが、キ
 ャストに内緒で撮影はしないでね📸\n\n5.持ち込み禁止
 アイテム・過激なワードや重たいアバター・店内雰囲
 気を壊すオブジェクト、パーティクル（マスカット以
 外のフルーツは大歓迎!!）\n\n6.トラブルは即スタッフま
 で！困ったことがあったらすぐに声をかけてください
 💡\n※インスタンスオーナーにご相談の上対応します\n
LOCATION:
END:VEVENT
END:VCALENDAR
