BEGIN:VCALENDAR
VERSION:2.0
PRODID:-//chikkutakku.com//RDFCal 1.0//EN
X-WR-CALDESC:GoogleカレンダーやiCalendar形式情報を共有シェ
 アしましょう。近所のイベントから全国のイベントま
 で今日のイベント検索やスケジュールを決めるならち
 っくたっく
X-WR-CALNAME:ちっくたっく
X-WR-TIMEZONE:UTC
BEGIN:VEVENT
SUMMARY:【台灣經貿網研討會】數位行銷加AI建立有效參展
 客戶與人脈(線上)(免費)
DTSTART;VALUE=DATE-TIME:20260422T160000Z
DTEND;VALUE=DATE-TIME:20260423T155959Z
UID:216464238868
DESCRIPTION:【台灣經貿網研討會】數位行銷加AI建立有效參
 展客戶與人脈(線上)(免費)
LOCATION:
END:VEVENT
END:VCALENDAR
