BEGIN:VCALENDAR
VERSION:2.0
PRODID:-//chikkutakku.com//RDFCal 1.0//EN
X-WR-CALDESC:GoogleカレンダーやiCalendar形式情報を共有シェ
 アしましょう。近所のイベントから全国のイベントま
 で今日のイベント検索やスケジュールを決めるならち
 っくたっく
X-WR-CALNAME:ちっくたっく
X-WR-TIMEZONE:UTC
BEGIN:VEVENT
SUMMARY:【Android 対応】クラシック音楽の集い
DTSTART;VALUE=DATE-TIME:20260429T130000Z
DTEND;VALUE=DATE-TIME:20260429T140000Z
UID:217275035229
DESCRIPTION:【イベント主催者】\n　あろえ_VR\n【イベント
 内容】\n　クラシック音楽について交流するイベントで
 す。\nクラシック初心者でも大歓迎！！\nまた、ワール
 ドはQuest対応させておりますので、Quest単機の方もお気
 軽にお越しください！！\n【イベントジャンル】\n　音
 楽系イベント\n【参加条件（モデル、人数制限など）】
 \n　Quest単機の方のために、Android(Quest)対応アバターを
 ご利用されることをお勧めします。\n【参加方法】\n　
 グループ「クラシック音楽の集い(CLASIC.3022)」に加入の
 上、開場時間になりましたらGroup+インスタンスに直接jo
 inしてください。\n【備考】\n　グループ https://vrc.group/C
 LASIC.3022\nポスター https://x.com/aloe_VRChat/status/2046241306641613
 168?s=20
LOCATION:
END:VEVENT
END:VCALENDAR
