BEGIN:VCALENDAR
VERSION:2.0
PRODID:-//chikkutakku.com//RDFCal 1.0//EN
X-WR-CALDESC:GoogleカレンダーやiCalendar形式情報を共有シェ
 アしましょう。近所のイベントから全国のイベントま
 で今日のイベント検索やスケジュールを決めるならち
 っくたっく
X-WR-CALNAME:ちっくたっく
X-WR-TIMEZONE:UTC
BEGIN:VEVENT
SUMMARY:おしゃべりしよ？なでなでさせて？
DTSTART;VALUE=DATE-TIME:20260423T113000Z
DTEND;VALUE=DATE-TIME:20260423T140000Z
UID:217665152112
DESCRIPTION:【イベント主催者】\n　桜（sakura）\n【イベン
 ト内容】\n　毎週木曜21時～元気がなくなるまでお話を
 聞きながらなでなでさせていただきます\n\nグループイ
 ンスタンスにて開催します\n\n1人につき基本20～30分で1
 ：1の対応とさせていただきます\n終わり次第インスタ
 ンスを立て直します\n【イベントジャンル】\n　定期イ
 ベント\n【参加条件（モデル、人数制限など）】\n　ル
 ール\n・VR男性限定となっております\n・日本人限定\n・
 女性の方はお断りしております\n・アバターは禁止事項
 に入らなければ問題ありません\n禁止事項\n・高負荷の
 パーティクルや視界ジャック等\n・無許可の配信行為や
 撮影\n・おさわり行為\n・過度な露出やJust行為又はそれ
 と判断される行為\n・虫系アバター\n・中身が女性\n【
 参加方法】\n　グループ（https://vrc.group/TALK.5118）に参加
 しグループインスタンスにJOIN\n【備考】\n　禁止ではな
 いですが初心者さんやデスクトップの方向けではあり
 ません
LOCATION:
END:VEVENT
END:VCALENDAR
