BEGIN:VCALENDAR
VERSION:2.0
PRODID:-//chikkutakku.com//RDFCal 1.0//EN
X-WR-CALDESC:GoogleカレンダーやiCalendar形式情報を共有シェ
 アしましょう。近所のイベントから全国のイベントま
 で今日のイベント検索やスケジュールを決めるならち
 っくたっく
X-WR-CALNAME:ちっくたっく
X-WR-TIMEZONE:UTC
BEGIN:VEVENT
SUMMARY:進学ナビ　進学・就職説明会
DTSTART;VALUE=DATE:20260420
DTEND;VALUE=DATE:20260421
UID:218255981746
DESCRIPTION:日時　4/21（火）　13：30～18：00\n\n入場料　無
 料
LOCATION:ビッグハット
END:VEVENT
END:VCALENDAR
