BEGIN:VCALENDAR
VERSION:2.0
PRODID:-//chikkutakku.com//RDFCal 1.0//EN
X-WR-CALDESC:GoogleカレンダーやiCalendar形式情報を共有シェ
 アしましょう。近所のイベントから全国のイベントま
 で今日のイベント検索やスケジュールを決めるならち
 っくたっく
X-WR-CALNAME:ちっくたっく
X-WR-TIMEZONE:UTC
BEGIN:VEVENT
SUMMARY:GROUPON- shantel +1 ( Hailey\, haylo ) W/C w/ bri
DTSTART;VALUE=DATE-TIME:20260425T190000Z
DTEND;VALUE=DATE-TIME:20260425T203000Z
UID:219294866048
DESCRIPTION:GROUPON- shantel +1 ( Hailey\, haylo ) W/C w/ bri
LOCATION:
END:VEVENT
END:VCALENDAR
