BEGIN:VCALENDAR
VERSION:2.0
PRODID:-//chikkutakku.com//RDFCal 1.0//EN
X-WR-CALDESC:GoogleカレンダーやiCalendar形式情報を共有シェ
 アしましょう。近所のイベントから全国のイベントま
 で今日のイベント検索やスケジュールを決めるならち
 っくたっく
X-WR-CALNAME:ちっくたっく
X-WR-TIMEZONE:UTC
BEGIN:VEVENT
SUMMARY:ヴィジュアル版 「決戦」の世界史［普及版］
DTSTART;VALUE=DATE:20260520
DTEND;VALUE=DATE:20260521
UID:219605704724
DESCRIPTION:2026-05-21ヴィジュアル版 「決戦」の世界史［普
 及版］ジェフリー・リーガン/森本 哲郎原書房
LOCATION:
END:VEVENT
END:VCALENDAR
