BEGIN:VCALENDAR
VERSION:2.0
PRODID:-//chikkutakku.com//RDFCal 1.0//EN
X-WR-CALDESC:GoogleカレンダーやiCalendar形式情報を共有シェ
 アしましょう。近所のイベントから全国のイベントま
 で今日のイベント検索やスケジュールを決めるならち
 っくたっく
X-WR-CALNAME:ちっくたっく
X-WR-TIMEZONE:UTC
BEGIN:VEVENT
SUMMARY:第18回アートフルゆめまつり2026
DTSTART;VALUE=DATE-TIME:20260510T042000Z
DTEND;VALUE=DATE-TIME:20260510T045000Z
UID:220082803611
DESCRIPTION:第18回アートフルゆめまつり2026
LOCATION:大宮門街\, 日本、〒330-0846 埼玉県さいたま市大
 宮区大門町２丁目１１８
END:VEVENT
END:VCALENDAR
