BEGIN:VCALENDAR
VERSION:2.0
PRODID:-//chikkutakku.com//RDFCal 1.0//EN
X-WR-CALDESC:GoogleカレンダーやiCalendar形式情報を共有シェ
 アしましょう。近所のイベントから全国のイベントま
 で今日のイベント検索やスケジュールを決めるならち
 っくたっく
X-WR-CALNAME:ちっくたっく
X-WR-TIMEZONE:UTC
BEGIN:VEVENT
SUMMARY:眼科臨床×AI（2026年5月号No.158）
DTSTART;VALUE=DATE:20260518
DTEND;VALUE=DATE:20260519
UID:220305250101
DESCRIPTION:2026-05-19眼科臨床×AI（2026年5月号No.158）清水映
 輔全日本病院出版会
LOCATION:
END:VEVENT
END:VCALENDAR
