BEGIN:VCALENDAR
VERSION:2.0
PRODID:-//chikkutakku.com//RDFCal 1.0//EN
X-WR-CALDESC:GoogleカレンダーやiCalendar形式情報を共有シェ
 アしましょう。近所のイベントから全国のイベントま
 で今日のイベント検索やスケジュールを決めるならち
 っくたっく
X-WR-CALNAME:ちっくたっく
X-WR-TIMEZONE:UTC
BEGIN:VEVENT
SUMMARY:山本五十六の野望【上】ハワイ作戦を直率す！
DTSTART;VALUE=DATE:20260518
DTEND;VALUE=DATE:20260519
UID:220368722852
DESCRIPTION:2026-05-19山本五十六の野望【上】ハワイ作戦を
 直率す！原 俊雄コスミック出版
LOCATION:
END:VEVENT
END:VCALENDAR
