BEGIN:VCALENDAR
VERSION:2.0
PRODID:-//chikkutakku.com//RDFCal 1.0//EN
X-WR-CALDESC:GoogleカレンダーやiCalendar形式情報を共有シェ
 アしましょう。近所のイベントから全国のイベントま
 で今日のイベント検索やスケジュールを決めるならち
 っくたっく
X-WR-CALNAME:ちっくたっく
X-WR-TIMEZONE:UTC
BEGIN:VEVENT
SUMMARY:ニャンダーかめん #5 「倒せナゾナゾ博士／忍者
 ニャオン参上」
DTSTART;VALUE=DATE-TIME:20260422T080000Z
DTEND;VALUE=DATE-TIME:20260422T083000Z
UID:220531581998
DESCRIPTION:5 / 倒せナゾナゾ博士／忍者ニャオン参上 / 
LOCATION:チバテレビ
END:VEVENT
END:VCALENDAR
