BEGIN:VCALENDAR
VERSION:2.0
PRODID:-//chikkutakku.com//RDFCal 1.0//EN
X-WR-CALDESC:GoogleカレンダーやiCalendar形式情報を共有シェ
 アしましょう。近所のイベントから全国のイベントま
 で今日のイベント検索やスケジュールを決めるならち
 っくたっく
X-WR-CALNAME:ちっくたっく
X-WR-TIMEZONE:UTC
BEGIN:VEVENT
SUMMARY:Spanish National Honor Society - SA Zoo Trip
DTSTART;VALUE=DATE-TIME:20260423T143000Z
DTEND;VALUE=DATE-TIME:20260423T184500Z
UID:220883083218
DESCRIPTION:Contact:  LeAnn Henderson
LOCATION:San Antonio Zoo\, 3903 N St Mary's St\, San Antonio\, TX 78212\, 
 USA
END:VEVENT
END:VCALENDAR
