BEGIN:VCALENDAR
VERSION:2.0
PRODID:-//chikkutakku.com//RDFCal 1.0//EN
X-WR-CALDESC:GoogleカレンダーやiCalendar形式情報を共有シェ
 アしましょう。近所のイベントから全国のイベントま
 で今日のイベント検索やスケジュールを決めるならち
 っくたっく
X-WR-CALNAME:ちっくたっく
X-WR-TIMEZONE:UTC
BEGIN:VEVENT
SUMMARY:【Android 対応】【第六十六回】細かすぎて伝わら
 ないパブリック
DTSTART;VALUE=DATE-TIME:20260421T120000Z
DTEND;VALUE=DATE-TIME:20260421T130000Z
UID:220946778177
DESCRIPTION:【イベント主催者】\n　きゅうり男爵\n【イベ
 ント内容】\n　毎週火曜開催【細かすぎて伝わらないパ
 ブリック】の第六十六回イベント！\n日常の中にある細
 かいモノマネやアニメ・ゲームにあるようなネタ！な
 んなら自作のネタを披露してもかまわない！\n見るだけ
 でも、披露するだけでも！気軽に楽しめるお笑いパブ
 リックイベント！\n【イベントジャンル】\n　初心者向
 けイベント\, 定期イベント\n【参加条件（モデル、人数
 制限など）】\n　違法アバターの使用は禁止です。また
 50MBを越えるアバターの使用はお控えください。軽いア
 バターを推奨します。\n【参加方法】\n　参加方法はグ
 ループ【KOMAPB.2405】に入って、グループ内告知を確認！
 インスタンスが開かれたらお入りください。\n【備考】
 \n　このイベントは細かすぎて伝わらないモノマネを基
 盤としています。ネタが笑われなくても、細かすぎて
 伝わらなかったというスタンスで行ってください。
LOCATION:
END:VEVENT
END:VCALENDAR
