BEGIN:VCALENDAR
VERSION:2.0
PRODID:-//chikkutakku.com//RDFCal 1.0//EN
X-WR-CALDESC:GoogleカレンダーやiCalendar形式情報を共有シェ
 アしましょう。近所のイベントから全国のイベントま
 で今日のイベント検索やスケジュールを決めるならち
 っくたっく
X-WR-CALNAME:ちっくたっく
X-WR-TIMEZONE:UTC
BEGIN:VEVENT
SUMMARY:わこーのあとりえアバター集会
DTSTART;VALUE=DATE-TIME:20260425T130000Z
DTEND;VALUE=DATE-TIME:20260425T140000Z
UID:221085098423
DESCRIPTION:【イベント主催者】\n　うさふぇる\n【イベン
 ト内容】\n　わこーのあとりえ(https://wakonoatorie.booth.pm/)
 で販売されているアバターユーザーの交流会\n【イベン
 トジャンル】\n　改変アバター交流会\n【参加条件（モ
 デル、人数制限など）】\n　ドレスコードはありません
 、他人に迷惑をかけないアバターでお越しください\n【
 参加方法】\n　わこーのあとりえグループ(https://vrchat.co
 m/home/group/grp_bcebe2cb-d0a0-4913-b3a5-fdc31604c9c5) Group+インスタ
 ンスに参加\n【備考】\n　
LOCATION:
END:VEVENT
END:VCALENDAR
