BEGIN:VCALENDAR
VERSION:2.0
PRODID:-//chikkutakku.com//RDFCal 1.0//EN
X-WR-CALDESC:GoogleカレンダーやiCalendar形式情報を共有シェ
 アしましょう。近所のイベントから全国のイベントま
 で今日のイベント検索やスケジュールを決めるならち
 っくたっく
X-WR-CALNAME:ちっくたっく
X-WR-TIMEZONE:UTC
BEGIN:VEVENT
SUMMARY:ALTTPR Open League Season 8: The American Engineered Pizza Project
 _The Joy of Rando
DTSTART;VALUE=DATE-TIME:20260424T170000Z
DTEND;VALUE=DATE-TIME:20260424T193000Z
UID:221389955948
DESCRIPTION:A Link to the Past Randomizer Open League Season 8\nDarpex/Ary
 aStark2942. Flying Platipus Dimitri/smercjd\nhttp://twitch.tv/SpeedGaming\
 n\n\n[updated 2026-04-23T21:04:48+00:00]
LOCATION:
END:VEVENT
END:VCALENDAR
