BEGIN:VCALENDAR
VERSION:2.0
PRODID:-//chikkutakku.com//RDFCal 1.0//EN
X-WR-CALDESC:GoogleカレンダーやiCalendar形式情報を共有シェ
 アしましょう。近所のイベントから全国のイベントま
 で今日のイベント検索やスケジュールを決めるならち
 っくたっく
X-WR-CALNAME:ちっくたっく
X-WR-TIMEZONE:UTC
BEGIN:VEVENT
SUMMARY:仮)高等部生徒たちのふれあい活動と休憩のため
 利用
DTSTART;VALUE=DATE-TIME:20260428T023000Z
DTEND;VALUE=DATE-TIME:20260428T043000Z
UID:222783442695
DESCRIPTION:▼申込内容\n予約日時: 2026/04/02 16:14:22\nお名前
 　: 澤　尚恵(鳥取大学附属特別支援学校)\n予約日　: 202
 6/04/28(火)\n予約時間: 11:30～13:30
LOCATION:
END:VEVENT
END:VCALENDAR
