BEGIN:VCALENDAR
VERSION:2.0
PRODID:-//chikkutakku.com//RDFCal 1.0//EN
X-WR-CALDESC:GoogleカレンダーやiCalendar形式情報を共有シェ
 アしましょう。近所のイベントから全国のイベントま
 で今日のイベント検索やスケジュールを決めるならち
 っくたっく
X-WR-CALNAME:ちっくたっく
X-WR-TIMEZONE:UTC
BEGIN:VEVENT
SUMMARY:Key4hep Discussion
DTSTART;VALUE=DATE-TIME:20260421T140000Z
DTEND;VALUE=DATE-TIME:20260421T151000Z
UID:222861868439
DESCRIPTION:Event URL: https://indico.cern.ch/event/1675341/\n\nhttps://in
 dico.cern.ch/event/1675341/\n\nZoom: https://cern.zoom.us/j/95444210901?pw
 d=Y2tERzQyY1RlMkRpZVBFbnVveDlSZz09
LOCATION:Zoom
END:VEVENT
END:VCALENDAR
