BEGIN:VCALENDAR
VERSION:2.0
PRODID:-//chikkutakku.com//RDFCal 1.0//EN
X-WR-CALDESC:GoogleカレンダーやiCalendar形式情報を共有シェ
 アしましょう。近所のイベントから全国のイベントま
 で今日のイベント検索やスケジュールを決めるならち
 っくたっく
X-WR-CALNAME:ちっくたっく
X-WR-TIMEZONE:UTC
BEGIN:VEVENT
SUMMARY:【葬儀を知る】バーチャル終活講座【仮想互助会
 Group+】
DTSTART;VALUE=DATE-TIME:20260423T120000Z
DTEND;VALUE=DATE-TIME:20260423T130000Z
UID:223489854543
DESCRIPTION:【イベント主催者】\n　仮想儀屋「Terry3」\n【
 イベント内容】\n　葬儀の流れを主としてスライドを使
 いながらお話しする終活講座です\n【イベントジャンル
 】\n　\n【参加条件（モデル、人数制限など）】\n　仮
 想互助会：KasouGojyokai（GJKI7990）への参加\n【参加方法】
 \n　仮想互助会Group+インスタンスのワールド「バーチャ
 ル終活講座」へ入る\n【備考】\n　X：＠F_Terry3\nhttps://x.c
 om/F_Terry3
LOCATION:
END:VEVENT
END:VCALENDAR
